BEGIN:VCALENDAR
VERSION:2.0
PRODID:-//INDUNIV | Industry University Research Center, Inc. - ECPv6.15.16.1//NONSGML v1.0//EN
CALSCALE:GREGORIAN
METHOD:PUBLISH
X-ORIGINAL-URL:https://www.induniv.org
X-WR-CALDESC:Events for INDUNIV | Industry University Research Center, Inc.
REFRESH-INTERVAL;VALUE=DURATION:PT1H
X-Robots-Tag:noindex
X-PUBLISHED-TTL:PT1H
BEGIN:VTIMEZONE
TZID:UTC
BEGIN:STANDARD
TZOFFSETFROM:+0000
TZOFFSETTO:+0000
TZNAME:UTC
DTSTART:20210101T000000
END:STANDARD
END:VTIMEZONE
BEGIN:VEVENT
DTSTART;TZID=UTC:20251015T083000
DTEND;TZID=UTC:20251015T113000
DTSTAMP:20260423T154729
CREATED:20251022T214816Z
LAST-MODIFIED:20260114T141611Z
UID:4597-1760517000-1760527800@www.induniv.org
SUMMARY:INDUNIV's 40th Anniversary Celebration
DESCRIPTION:
URL:https://www.induniv.org/event/indunivs-40th-anniversary-celebration/
ATTACH;FMTTYPE=image/jpeg:https://www.induniv.org/wp-content/uploads/2025/10/events-thumb_40-years.jpg
END:VEVENT
BEGIN:VEVENT
DTSTART;TZID=UTC:20251001T080000
DTEND;TZID=UTC:20251031T170000
DTSTAMP:20260423T154729
CREATED:20251018T005156Z
LAST-MODIFIED:20251018T010212Z
UID:4567-1759305600-1761930000@www.induniv.org
SUMMARY:22nd Annual Celebration of Bioscience in Puerto Rico
DESCRIPTION:October 2025
URL:https://www.induniv.org/event/22nd-annual-celebration-of-bioscience-in-puerto-rico/
ATTACH;FMTTYPE=image/jpeg:https://www.induniv.org/wp-content/uploads/2025/10/events-thumb_bioscience-2025.jpg
END:VEVENT
BEGIN:VEVENT
DTSTART;TZID=UTC:20250826T080000
DTEND;TZID=UTC:20250827T170000
DTSTAMP:20260423T154729
CREATED:20251008T202552Z
LAST-MODIFIED:20251008T214750Z
UID:4520-1756195200-1756314000@www.induniv.org
SUMMARY:22th Annual Summit on Advanced Manufacturing Science & Technology
DESCRIPTION:
URL:https://www.induniv.org/event/22th-annual-summit-on-advanced-manufacturing-science-technology/
LOCATION:The Royal Sonesta Isla Verde Avenue\, 5961 Av. Isla Verde\, Carolina\, 00979\, Puerto Rico
ATTACH;FMTTYPE=image/jpeg:https://www.induniv.org/wp-content/uploads/2025/10/annual-summit-logo_2025.jpg
END:VEVENT
BEGIN:VEVENT
DTSTART;TZID=UTC:20240620T080000
DTEND;TZID=UTC:20240621T170000
DTSTAMP:20260423T154729
CREATED:20240410T153444Z
LAST-MODIFIED:20240517T231621Z
UID:3989-1718870400-1718989200@www.induniv.org
SUMMARY:21st Advanced Manufacturing Annual Summit
DESCRIPTION:“Driving the continuous and digital manufacturing future for the Pharmaceutical and Biopharmaceutical Industries”\n \nREGISTRATION & CALL FOR PAPERS OPEN!\nFor More Details Visit: www.IFPACsummit.org \nVenue: Courtyard by Marriott Isla Verde Beach Resort \nThe IFPAC Annual Summit\, covering the latest initiatives in Process Analytical Technology (PAT) and the Future of Manufacturing\, will be held on June 20-21\, 2024. IFPAC and INDUNIV are planning another premier event for professionals in the pharmaceutical sciences and biopharmaceuticals. \nEach day will include working sessions and numerous discussion opportunities. We will have plenty of new information from companies that are already involved in PAT and QbD\, and from many talented students. \nSince the PAT initiative in 2004\, we have been discussing the potential for Process Analytical Technology…PAT to provide process knowledge.  The challenge now is – how do we couple that process knowledge with information systems?  How do we make it possible for scientists that thoroughly understand a process to easily see the process data from a plant anywhere in the world?  How do information systems help that process knowledge to become a competitive advantage?  Companies that have used PAT have massive data bases by now; the next step is to use this knowledge.  During the annual event\, we will present innovative\, strategic\, achievable\, and sustainable solutions. \nOur conference program is based on a quadrant approach\, where each quadrant of the IFPAC Summit conference will have a specific topic and set of deliverables. \n\nQuadrant I: Continuous Manufacturing Quality & Advanced Manufacturing Strategies\nQuadrant II: End to End Production: PAT & Analytics\nQuadrant III: Biologics & Therapeutics for Development and Manufacturing\nQuadrant IV: Industry 4.0 & Data Information Technology\n\nWe have organized a unique conference with a holistic approach to Continuous Manufacturing\, Process Analytical Technology\, overall Process Understanding & Control and Data Management. \nContact conference management for more details. \nView the Preliminary Program – Program Preview Brochure HERE
URL:https://www.induniv.org/event/21th-advanced-manufacturing-annual-summit/
LOCATION:Courtyard by Marriott Isla Verde Beach Resort\, 7012 C. Avenue Boca de Cangrejos\, Carolina\, 00979\, Puerto Rico
ATTACH;FMTTYPE=image/jpeg:https://www.induniv.org/wp-content/uploads/2024/04/events-thumb_annual-summit-2024.jpg
END:VEVENT
BEGIN:VEVENT
DTSTART;TZID=UTC:20240603T080000
DTEND;TZID=UTC:20240606T170000
DTSTAMP:20260423T154729
CREATED:20240410T120917Z
LAST-MODIFIED:20240608T143907Z
UID:3983-1717401600-1717693200@www.induniv.org
SUMMARY:Bio International Convention 2024
DESCRIPTION:Join the Puerto Rico Delegation at BIO 2024 International Convention in San Diego – June 3-6\, 2024\n \nVisit the PR Pavilion (#2611) from June 3 – 6th located at the main exhibit hall.\nFind us at Puerto Rico’s pavilion #2611 \nClick Here to locate our pavilion #22611 on the Exhibit Floor \n \nOur Sponsors
URL:https://www.induniv.org/event/bio-international-convention-2024/
LOCATION:San Diego\, CA\, San Diego\, CA\, United States
ATTACH;FMTTYPE=image/jpeg:https://www.induniv.org/wp-content/uploads/2024/04/events-thumb_bio-2024-c.jpg
END:VEVENT
BEGIN:VEVENT
DTSTART;TZID=UTC:20231001T080000
DTEND;TZID=UTC:20231031T170000
DTSTAMP:20260423T154729
CREATED:20230909T153303Z
LAST-MODIFIED:20251018T004433Z
UID:3588-1696147200-1698771600@www.induniv.org
SUMMARY:Puerto Rico Annual Bioscience Celebration 2023
DESCRIPTION:October 2023 is the Month for the\n20 th Annual Celebration of Bioscience\n \n\n\n\n\n\n \n\nIn PR\, October Marks the Annual Bioscience Celebration\n\nJoin us and become part of this yearly event! For more information contact us: induniv@induniv.org \n\n \n\n 
URL:https://www.induniv.org/event/puerto-rico-annual-bioscience-celebration-2023/
LOCATION:Islandwide\, Puerto Rico
ATTACH;FMTTYPE=image/jpeg:https://www.induniv.org/wp-content/uploads/2023/09/events-thumb_bioscience-2023.jpg
END:VEVENT
BEGIN:VEVENT
DTSTART;TZID=UTC:20230829T080000
DTEND;TZID=UTC:20230830T170000
DTSTAMP:20260423T154729
CREATED:20230908T163018Z
LAST-MODIFIED:20230908T171422Z
UID:3406-1693296000-1693414800@www.induniv.org
SUMMARY:20th Advanced Manufacturing Annual Summit
DESCRIPTION:“Driving the continuous and digital manufacturing future for the Pharmaceutical and Biopharmaceutical Industries”\n \nThe IFPAC Annual Summit\, covering the latest initiatives in Process Analytical Technology (PAT) and the Future of Manufacturing\, will be held on August 29-30\, 2023. IFPAC and INDUNIV are planning another premier event for professionals in the pharmaceutical sciences and biopharmaceuticals. \nIndustry Group Rates & Academia / Student Rates Are Available \nEach day will include working sessions and numerous discussion opportunities. We will have plenty of new information from companies that are already involved in PAT and QbD\, and from many talented students. \nSince the PAT initiative in 2004\, we have been discussing the potential for Process Analytical Technology…PAT to provide process knowledge.  The challenge now is – how do we couple that process knowledge with information systems?  How do we make it possible for scientists that thoroughly understand a process to easily see the process data from a plant anywhere in the world?  How do information systems help that process knowledge to become a competitive advantage?  Companies that have used PAT have massive data bases by now; the next step is to use this knowledge.  During the annual event\, we will present innovative\, strategic\, achievable\, and sustainable solutions. \nOur conference program is based on a quadrant approach\, where each quadrant of the IFPAC Summit conference will have a specific topic and set of deliverables. \n\nQuadrant I: Continuous Manufacturing Quality & Advanced Manufacturing Strategies\nQuadrant II: End to End Production: PAT & Analytics\nQuadrant III: Biologics & Therapeutics for Development and Manufacturing\nQuadrant IV: Industry 4.0 & Data Information Technology\n\nWe have organized a unique conference with a holistic approach to Continuous Manufacturing\, Process Analytical Technology\, overall Process Understanding & Control and Data Management. \nContact conference management for more details. \nView the Preliminary Program – Program Preview Brochure HERE \nMake your Hotel Reservations at the Isla Verde Beach Resort\, Courtyard by Marriott. \n 
URL:https://www.induniv.org/event/20th-advanced-manufacturing-annual-summit/
LOCATION:San Juan\, PR\, San Juan\, Puerto Rico
ATTACH;FMTTYPE=image/jpeg:https://www.induniv.org/wp-content/uploads/2023/09/events-thumb_20th-annual-summit-1.jpg
END:VEVENT
BEGIN:VEVENT
DTSTART;TZID=UTC:20230605T080000
DTEND;TZID=UTC:20230608T170000
DTSTAMP:20260423T154729
CREATED:20230511T202319Z
LAST-MODIFIED:20230603T153256Z
UID:3372-1685952000-1686243600@www.induniv.org
SUMMARY:Bio International Convention 2023
DESCRIPTION:Join the Puerto Rico Delegation at BIO 2023 International Convention in Boston – June 5-8\, 2023\n \nVisit the PR Pavilion (#2335) from June 5 – 8th located at the main exhibit hall.\nFind us at Puerto Rico’s pavilion #2335 \n Click Here to locate our pavilion #2335 on the Exhibit Floor \n \nOur Sponsors
URL:https://www.induniv.org/event/bio-international-convention-2023/
LOCATION:Boston\, MA\, United States
ATTACH;FMTTYPE=image/jpeg:https://www.induniv.org/wp-content/uploads/2023/05/267519_BIO_23_Web-670x430-1.jpg
END:VEVENT
BEGIN:VEVENT
DTSTART;TZID=UTC:20221001T080000
DTEND;TZID=UTC:20221031T170000
DTSTAMP:20260423T154729
CREATED:20220524T030558Z
LAST-MODIFIED:20230909T145935Z
UID:3002-1664611200-1667235600@www.induniv.org
SUMMARY:Puerto Rico Annual Bioscience Celebration
DESCRIPTION:In Puerto Rico\, October marks the Annual Bioscience Celebration.\n  \n \n \n \n \nINDUNIV Research Center and the PR Life Sciences community of partners during the month of October (weather permitting) commemorates the Annual Celebration of Bioscience. We are ready and inviting our community of partners to join and start planning for the 2022 event on its 19th edition. In 2021\, the occasion marked the eighteenth edition of the event\, under the theme “Bioscience and Puerto Rico\, Innovation that Works! Every year we have been marking a milestone for having this number of consecutive commemorations. The opening and other main activities are held during the period marked as Bioscience Innovation Week which is usually the second week in October. \nThe Bioscience Celebration has been a great awareness tool that helps us educate the general public in the merits and benefits of the of the life sciences sector (refer to the back page of this flyer for a purview of what the field of bioscience entails). The main purpose of this annual event is to reach out to as many people as possible through our community of partners. In this endeavor\, we pretend to carry the message of the importance of the life sciences with all of its benefits that impact our economy and quality of life.  \nDuring this celebration\, INDUNIV\, the Bio Alliance and the Education Committee (CIE) synergize with our regional community of partners in the organization of as many activities as possible. The intention is to impact students and general public throughout the month. At the same time\, we collaborate with the regional activities that are organized by public and private universities and companies. . In their own regions\, each partner attends to their school and college students as well as the community at large. \nThis bioscience & innovation annual event fosters awareness in general while develops for students an interest in science and technology fields. Our participative efforts allow to invest and build towards the future formation of STEM professionals for the industry. Through this commitment\, we will also contribute to sustain the level of PR workforce necessary for the represented sectors of life sciences \nJoin us and become part of this yearly occurrence in October\, by partnering in the organization of activities in your schools\, university campuses in your region and/or in your companies.  \nInterested? Please contact us at:\nilugo@induniv.org\nctollinche@induniv.org\n \n\n			\n				\n			\n			\n				\n			\n			\n				\n			\n			\n				\n			\n		\n \n  \n 
URL:https://www.induniv.org/event/annual-bioscience-celebration/
LOCATION:Islandwide\, Puerto Rico
ATTACH;FMTTYPE=image/jpeg:https://www.induniv.org/wp-content/uploads/2022/05/events-thumb_bioscience2.jpg
END:VEVENT
BEGIN:VEVENT
DTSTART;TZID=UTC:20220907T080000
DTEND;TZID=UTC:20220908T170000
DTSTAMP:20260423T154729
CREATED:20230909T155641Z
LAST-MODIFIED:20230909T155641Z
UID:3000-1662537600-1662656400@www.induniv.org
SUMMARY:19th Advanced Manufacturing Science Annual Summit
DESCRIPTION:“Driving the continuous and digital manufacturing future for the Pharmaceutical and Biopharmaceutical Industries”\n \nThis annual event has been a critical component towards developing a strong Process Analytical Technology (PAT) community in Puerto Rico.  These efforts have actively contributed in making advanced manufacturing a reality for pharma and biopharma production.  The 2021  conference definitely added value towards this progress and expand on these endeavors for increasing the level of knowledge and the science to be brought in the 2022 forum.  \nIn the two day program\, we have reflected on the transformation towards driving the continuous and digital manufacturing future for the pharmaceutical and biopharmaceutical industries: continuous operations\, data integrity\, new PAT methods and analytics\, implementation of biologics cell therapies\, and digitalization / Industry/Pharma 4.0. \nThe IFPAC/INDUNIV Summit Program\, is developed to bring a range of participants to the table creating an invaluable opportunity to discuss the latest challenges\, trends and solutions impacting manufacturing and control for the pharmaceutical and biotechnology industries. Packed with engaging sessions and numerous networking opportunities\, you still may not  want to miss out since it is made available afterwards on demand to those that register.  \nThank you to all participants and attendees for the support and look forward to your presence in this year event.  We encourage you to invite others since the Summit would be returning to the in-person format in early September.  \nInterested? Please contact us at:\ninfo@ifpacnet.org\nctollinche@induniv.org
URL:https://www.induniv.org/event/19th-advanced-manufacturing-science-annual-summit/
LOCATION:San Juan\, PR\, San Juan\, Puerto Rico
ATTACH;FMTTYPE=image/jpeg:https://www.induniv.org/wp-content/uploads/2022/05/events-thumb_annual-sumit.jpg
END:VEVENT
BEGIN:VEVENT
DTSTART;TZID=UTC:20220613T080000
DTEND;TZID=UTC:20220616T170000
DTSTAMP:20260423T154729
CREATED:20230909T155641Z
LAST-MODIFIED:20230909T155641Z
UID:2931-1655107200-1655398800@www.induniv.org
SUMMARY:Bio International Convention 2022
DESCRIPTION:Make History at BIO 2022  In-Person Event and Be Part of the PR Pavilion #2337\n \nThe BIO International Convention attracts 15\,000+ biotechnology and pharma leaders who come together for one week of intensive networking to discover new opportunities and promising partnerships. They bring together a wide spectrum of life science and application\, including drug discovery\, biomanufacturing\, genomics\, biofuels\, nanotechnology\, and cell therapy. \n“Accelerate Success – The Future of Bioscience in PR”\nFind us at Puerto Rico’s pavilion #2337 \nJoin Invest Puerto Rico and INDUNIV at the PR’s the Life Sciences pavilion (#2337) and become part of the official Puerto Rico’s delegation going to San Diego in June. \n Click Here to locate our pavilion #2337 on the Exhibit Floor \nDOWNLOAD DOCUMENTS FOR MORE INFORMATION \n\n Health and Safety Measures\n Informational Flyer\n Sponsorship & Branding Opportunities\n\n  \n \n \n \nOur appreciation and recognition to our 2022 sponsors: Amgen\, Lilly and Principia. \nInterested? Please contact us at:\nilugo@induniv.org\nctollinche@induniv.org
URL:https://www.induniv.org/event/bio-international-convention-2022/
LOCATION:San Diego\, CA\, San Diego\, CA\, United States
ATTACH;FMTTYPE=image/jpeg:https://www.induniv.org/wp-content/uploads/2022/05/events-thumb_bio-convention-b.jpg
END:VEVENT
END:VCALENDAR